BEGIN:VCALENDAR
VERSION:2.0
PRODID:-//Bürgerschützenverein Bottrop Eigen - ECPv6.15.20//NONSGML v1.0//EN
CALSCALE:GREGORIAN
METHOD:PUBLISH
X-WR-CALNAME:Bürgerschützenverein Bottrop Eigen
X-ORIGINAL-URL:https://bsv-bottrop-eigen.de
X-WR-CALDESC:Veranstaltungen für Bürgerschützenverein Bottrop Eigen
REFRESH-INTERVAL;VALUE=DURATION:PT1H
X-Robots-Tag:noindex
X-PUBLISHED-TTL:PT1H
BEGIN:VTIMEZONE
TZID:Europe/Berlin
BEGIN:DAYLIGHT
TZOFFSETFROM:+0100
TZOFFSETTO:+0200
TZNAME:CEST
DTSTART:20240331T010000
END:DAYLIGHT
BEGIN:STANDARD
TZOFFSETFROM:+0200
TZOFFSETTO:+0100
TZNAME:CET
DTSTART:20241027T010000
END:STANDARD
BEGIN:DAYLIGHT
TZOFFSETFROM:+0100
TZOFFSETTO:+0200
TZNAME:CEST
DTSTART:20250330T010000
END:DAYLIGHT
BEGIN:STANDARD
TZOFFSETFROM:+0200
TZOFFSETTO:+0100
TZNAME:CET
DTSTART:20251026T010000
END:STANDARD
BEGIN:DAYLIGHT
TZOFFSETFROM:+0100
TZOFFSETTO:+0200
TZNAME:CEST
DTSTART:20260329T010000
END:DAYLIGHT
BEGIN:STANDARD
TZOFFSETFROM:+0200
TZOFFSETTO:+0100
TZNAME:CET
DTSTART:20261025T010000
END:STANDARD
END:VTIMEZONE
BEGIN:VEVENT
DTSTART;TZID=Europe/Berlin:20250119T100000
DTEND;TZID=Europe/Berlin:20250119T150000
DTSTAMP:20260422T174245
CREATED:20231221T194012Z
LAST-MODIFIED:20241227T112710Z
UID:5661-1737280800-1737298800@bsv-bottrop-eigen.de
SUMMARY:Herrensitzung
DESCRIPTION:Herrensitzung
URL:https://bsv-bottrop-eigen.de/event/herrensitzung/
LOCATION:NRW
END:VEVENT
BEGIN:VEVENT
DTSTART;TZID=Europe/Berlin:20250119T110000
DTEND;TZID=Europe/Berlin:20250119T140000
DTSTAMP:20260422T174245
CREATED:20241227T121336Z
LAST-MODIFIED:20241227T121336Z
UID:6066-1737284400-1737295200@bsv-bottrop-eigen.de
SUMMARY:Neujahrsempfang Frohnhausen
DESCRIPTION:Neujahrsempfang Bürgerschützenverein Essen-Frohnhausen von 1841 e.V.
URL:https://bsv-bottrop-eigen.de/event/neujahrsempfang-frohnhausen/
LOCATION:NRW
ORGANIZER;CN="BSV Bottrop-Eigen 1920 e.V.":MAILTO:info@bsv-Bottrop-Eigen.de
END:VEVENT
END:VCALENDAR