BEGIN:VCALENDAR
VERSION:2.0
PRODID:-//Bürgerschützenverein Bottrop Eigen - ECPv6.15.20//NONSGML v1.0//EN
CALSCALE:GREGORIAN
METHOD:PUBLISH
X-WR-CALNAME:Bürgerschützenverein Bottrop Eigen
X-ORIGINAL-URL:https://bsv-bottrop-eigen.de
X-WR-CALDESC:Veranstaltungen für Bürgerschützenverein Bottrop Eigen
REFRESH-INTERVAL;VALUE=DURATION:PT1H
X-Robots-Tag:noindex
X-PUBLISHED-TTL:PT1H
BEGIN:VTIMEZONE
TZID:Europe/Berlin
BEGIN:DAYLIGHT
TZOFFSETFROM:+0100
TZOFFSETTO:+0200
TZNAME:CEST
DTSTART:20240331T010000
END:DAYLIGHT
BEGIN:STANDARD
TZOFFSETFROM:+0200
TZOFFSETTO:+0100
TZNAME:CET
DTSTART:20241027T010000
END:STANDARD
BEGIN:DAYLIGHT
TZOFFSETFROM:+0100
TZOFFSETTO:+0200
TZNAME:CEST
DTSTART:20250330T010000
END:DAYLIGHT
BEGIN:STANDARD
TZOFFSETFROM:+0200
TZOFFSETTO:+0100
TZNAME:CET
DTSTART:20251026T010000
END:STANDARD
BEGIN:DAYLIGHT
TZOFFSETFROM:+0100
TZOFFSETTO:+0200
TZNAME:CEST
DTSTART:20260329T010000
END:DAYLIGHT
BEGIN:STANDARD
TZOFFSETFROM:+0200
TZOFFSETTO:+0100
TZNAME:CET
DTSTART:20261025T010000
END:STANDARD
END:VTIMEZONE
BEGIN:VEVENT
DTSTART;TZID=Europe/Berlin:20250606T160000
DTEND;TZID=Europe/Berlin:20250608T235900
DTSTAMP:20260420T183355
CREATED:20250130T085518Z
LAST-MODIFIED:20250203T110710Z
UID:6146-1749225600-1749427140@bsv-bottrop-eigen.de
SUMMARY:Bürgerschützenfest Bottrop Eigen 1920 e.V.
DESCRIPTION:
URL:https://bsv-bottrop-eigen.de/event/buergerschuetzenfest-bottrop-eigen-1920-e-v/
LOCATION:Bahnhof Nord\, Am Vorthbach 10\, Bottrop\, NRW\, 46240\, Deutschland
CATEGORIES:Schützenfest
ORGANIZER;CN="BSV Bottrop-Eigen 1920 e.V.":MAILTO:info@bsv-Bottrop-Eigen.de
END:VEVENT
END:VCALENDAR