BEGIN:VCALENDAR
VERSION:2.0
PRODID:-//Bürgerschützenverein Bottrop Eigen - ECPv6.15.20//NONSGML v1.0//EN
CALSCALE:GREGORIAN
METHOD:PUBLISH
X-WR-CALNAME:Bürgerschützenverein Bottrop Eigen
X-ORIGINAL-URL:https://bsv-bottrop-eigen.de
X-WR-CALDESC:Veranstaltungen für Bürgerschützenverein Bottrop Eigen
REFRESH-INTERVAL;VALUE=DURATION:PT1H
X-Robots-Tag:noindex
X-PUBLISHED-TTL:PT1H
BEGIN:VTIMEZONE
TZID:Europe/Berlin
BEGIN:DAYLIGHT
TZOFFSETFROM:+0100
TZOFFSETTO:+0200
TZNAME:CEST
DTSTART:20240331T010000
END:DAYLIGHT
BEGIN:STANDARD
TZOFFSETFROM:+0200
TZOFFSETTO:+0100
TZNAME:CET
DTSTART:20241027T010000
END:STANDARD
BEGIN:DAYLIGHT
TZOFFSETFROM:+0100
TZOFFSETTO:+0200
TZNAME:CEST
DTSTART:20250330T010000
END:DAYLIGHT
BEGIN:STANDARD
TZOFFSETFROM:+0200
TZOFFSETTO:+0100
TZNAME:CET
DTSTART:20251026T010000
END:STANDARD
BEGIN:DAYLIGHT
TZOFFSETFROM:+0100
TZOFFSETTO:+0200
TZNAME:CEST
DTSTART:20260329T010000
END:DAYLIGHT
BEGIN:STANDARD
TZOFFSETFROM:+0200
TZOFFSETTO:+0100
TZNAME:CET
DTSTART:20261025T010000
END:STANDARD
END:VTIMEZONE
BEGIN:VEVENT
DTSTART;TZID=Europe/Berlin:20250801T180000
DTEND;TZID=Europe/Berlin:20250803T235900
DTSTAMP:20260422T121151
CREATED:20250203T063231Z
LAST-MODIFIED:20250203T110639Z
UID:6150-1754071200-1754265540@bsv-bottrop-eigen.de
SUMMARY:Schützenfest BSV Waldmannsheil
DESCRIPTION:Thronabend Waldmannsheil
URL:https://bsv-bottrop-eigen.de/event/schuetzenfest-bsv-waldmannsheil/
LOCATION:Hochstrasse 53\, 46117 Oberhausen\, Hochstrasse 53\, Oberhausen\, NRW\, 46117\, Deutschland
CATEGORIES:Schützenfest
ORGANIZER;CN="BSV Waidmannsheil 1956 e.V. Oberhausen-Osterfeld":MAILTO:vorstand@bsv-waidmannsheil-1956.de
END:VEVENT
BEGIN:VEVENT
DTSTART;TZID=Europe/Berlin:20250801T190000
DTEND;TZID=Europe/Berlin:20250801T200000
DTSTAMP:20260422T121151
CREATED:20221230T152731Z
LAST-MODIFIED:20250331T152304Z
UID:4682-1754074800-1754078400@bsv-bottrop-eigen.de
SUMMARY:Stammtisch August
DESCRIPTION:Stammtisch August
URL:https://bsv-bottrop-eigen.de/event/stammtisch-august/
LOCATION:Clubhaus TC Stadtwald\, Stenkhoffstraße 32\, Bottrop\, NRW\, 46240\, Germany
CATEGORIES:Stammtisch
ATTACH;FMTTYPE=image/png:https://bsv-bottrop-eigen.de/wp-content/uploads/2019/12/Stammtisch.png
ORGANIZER;CN="BSV Bottrop-Eigen 1920 e.V.":MAILTO:info@bsv-Bottrop-Eigen.de
END:VEVENT
END:VCALENDAR