BEGIN:VCALENDAR
VERSION:2.0
PRODID:-//Bürgerschützenverein Bottrop Eigen - ECPv6.15.20//NONSGML v1.0//EN
CALSCALE:GREGORIAN
METHOD:PUBLISH
X-WR-CALNAME:Bürgerschützenverein Bottrop Eigen
X-ORIGINAL-URL:https://bsv-bottrop-eigen.de
X-WR-CALDESC:Veranstaltungen für Bürgerschützenverein Bottrop Eigen
REFRESH-INTERVAL;VALUE=DURATION:PT1H
X-Robots-Tag:noindex
X-PUBLISHED-TTL:PT1H
BEGIN:VTIMEZONE
TZID:Europe/Berlin
BEGIN:DAYLIGHT
TZOFFSETFROM:+0100
TZOFFSETTO:+0200
TZNAME:CEST
DTSTART:20240331T010000
END:DAYLIGHT
BEGIN:STANDARD
TZOFFSETFROM:+0200
TZOFFSETTO:+0100
TZNAME:CET
DTSTART:20241027T010000
END:STANDARD
BEGIN:DAYLIGHT
TZOFFSETFROM:+0100
TZOFFSETTO:+0200
TZNAME:CEST
DTSTART:20250330T010000
END:DAYLIGHT
BEGIN:STANDARD
TZOFFSETFROM:+0200
TZOFFSETTO:+0100
TZNAME:CET
DTSTART:20251026T010000
END:STANDARD
BEGIN:DAYLIGHT
TZOFFSETFROM:+0100
TZOFFSETTO:+0200
TZNAME:CEST
DTSTART:20260329T010000
END:DAYLIGHT
BEGIN:STANDARD
TZOFFSETFROM:+0200
TZOFFSETTO:+0100
TZNAME:CET
DTSTART:20261025T010000
END:STANDARD
END:VTIMEZONE
BEGIN:VEVENT
DTSTART;TZID=Europe/Berlin:20250823T170000
DTEND;TZID=Europe/Berlin:20250823T230000
DTSTAMP:20260422T133138
CREATED:20250203T063515Z
LAST-MODIFIED:20250203T063515Z
UID:6152-1755968400-1755990000@bsv-bottrop-eigen.de
SUMMARY:Biwak BSV Bottrop 2017
DESCRIPTION:
URL:https://bsv-bottrop-eigen.de/event/biwak-bsv-bottrop-2017/
LOCATION:BSV Vonderort\, Vonderbergstraße 244\, 46242 Bottrop\, Vonderbergstraße 244\, 46242 Bottrop
END:VEVENT
END:VCALENDAR