BEGIN:VCALENDAR
VERSION:2.0
PRODID:-//Bürgerschützenverein Bottrop Eigen - ECPv6.15.20//NONSGML v1.0//EN
CALSCALE:GREGORIAN
METHOD:PUBLISH
X-WR-CALNAME:Bürgerschützenverein Bottrop Eigen
X-ORIGINAL-URL:https://bsv-bottrop-eigen.de
X-WR-CALDESC:Veranstaltungen für Bürgerschützenverein Bottrop Eigen
REFRESH-INTERVAL;VALUE=DURATION:PT1H
X-Robots-Tag:noindex
X-PUBLISHED-TTL:PT1H
BEGIN:VTIMEZONE
TZID:Europe/Berlin
BEGIN:DAYLIGHT
TZOFFSETFROM:+0100
TZOFFSETTO:+0200
TZNAME:CEST
DTSTART:20240331T010000
END:DAYLIGHT
BEGIN:STANDARD
TZOFFSETFROM:+0200
TZOFFSETTO:+0100
TZNAME:CET
DTSTART:20241027T010000
END:STANDARD
BEGIN:DAYLIGHT
TZOFFSETFROM:+0100
TZOFFSETTO:+0200
TZNAME:CEST
DTSTART:20250330T010000
END:DAYLIGHT
BEGIN:STANDARD
TZOFFSETFROM:+0200
TZOFFSETTO:+0100
TZNAME:CET
DTSTART:20251026T010000
END:STANDARD
BEGIN:DAYLIGHT
TZOFFSETFROM:+0100
TZOFFSETTO:+0200
TZNAME:CEST
DTSTART:20260329T010000
END:DAYLIGHT
BEGIN:STANDARD
TZOFFSETFROM:+0200
TZOFFSETTO:+0100
TZNAME:CET
DTSTART:20261025T010000
END:STANDARD
END:VTIMEZONE
BEGIN:VEVENT
DTSTART;TZID=Europe/Berlin:20250205T190000
DTEND;TZID=Europe/Berlin:20250205T220000
DTSTAMP:20260422T132604
CREATED:20231221T104234Z
LAST-MODIFIED:20250203T131027Z
UID:5628-1738782000-1738792800@bsv-bottrop-eigen.de
SUMMARY:Trainingsschießen
DESCRIPTION:Trainigsschießen
URL:https://bsv-bottrop-eigen.de/event/trainingsschiessen-4/
LOCATION:Cottage Pub\, Herzogstr. 58\, Bottrop\, NRW\, 46240\, Deutschland
CATEGORIES:Trainingsschießen
ATTACH;FMTTYPE=image/png:https://bsv-bottrop-eigen.de/wp-content/uploads/2021/10/2025-02-03_13h26_45.png
ORGANIZER;CN="BSV Bottrop-Eigen 1920 e.V.":MAILTO:info@bsv-Bottrop-Eigen.de
END:VEVENT
BEGIN:VEVENT
DTSTART;TZID=Europe/Berlin:20250207T190000
DTEND;TZID=Europe/Berlin:20250207T230000
DTSTAMP:20260422T132604
CREATED:20221230T153617Z
LAST-MODIFIED:20231221T105802Z
UID:4694-1738954800-1738969200@bsv-bottrop-eigen.de
SUMMARY:Stammtisch Februar
DESCRIPTION:Stammtisch Februar
URL:https://bsv-bottrop-eigen.de/event/stammtisch-februar/
LOCATION:Cottage Pub\, Herzogstr. 58\, Bottrop\, NRW\, 46240\, Deutschland
CATEGORIES:Stammtisch
ATTACH;FMTTYPE=image/png:https://bsv-bottrop-eigen.de/wp-content/uploads/2019/12/Stammtisch.png
ORGANIZER;CN="BSV Bottrop-Eigen 1920 e.V.":MAILTO:info@bsv-Bottrop-Eigen.de
END:VEVENT
BEGIN:VEVENT
DTSTART;TZID=Europe/Berlin:20250212T190000
DTEND;TZID=Europe/Berlin:20250212T220000
DTSTAMP:20260422T132604
CREATED:20231221T105222Z
LAST-MODIFIED:20250203T130955Z
UID:5643-1739386800-1739397600@bsv-bottrop-eigen.de
SUMMARY:Trainingsschießen
DESCRIPTION:Trainigsschießen
URL:https://bsv-bottrop-eigen.de/event/trainingsschiessen-5/
LOCATION:Cottage Pub\, Herzogstr. 58\, Bottrop\, NRW\, 46240\, Deutschland
CATEGORIES:Trainingsschießen
ATTACH;FMTTYPE=image/png:https://bsv-bottrop-eigen.de/wp-content/uploads/2021/10/2025-02-03_13h26_45.png
ORGANIZER;CN="BSV Bottrop-Eigen 1920 e.V.":MAILTO:info@bsv-Bottrop-Eigen.de
END:VEVENT
BEGIN:VEVENT
DTSTART;TZID=Europe/Berlin:20250219T190000
DTEND;TZID=Europe/Berlin:20250219T220000
DTSTAMP:20260422T132604
CREATED:20231221T193651Z
LAST-MODIFIED:20250203T130832Z
UID:5657-1739991600-1740002400@bsv-bottrop-eigen.de
SUMMARY:Trainingsschießen und Damenübungsschießen
DESCRIPTION:Trainungsschießen und Damenübungsschießen
URL:https://bsv-bottrop-eigen.de/event/trainingsschiessen-6/
LOCATION:Cottage Pub\, Herzogstr. 58\, Bottrop\, NRW\, 46240\, Deutschland
CATEGORIES:Trainingsschießen
ATTACH;FMTTYPE=image/png:https://bsv-bottrop-eigen.de/wp-content/uploads/2021/10/2025-02-03_13h26_45.png
ORGANIZER;CN="BSV Bottrop-Eigen 1920 e.V.":MAILTO:info@bsv-Bottrop-Eigen.de
END:VEVENT
BEGIN:VEVENT
DTSTART;TZID=Europe/Berlin:20250226T190000
DTEND;TZID=Europe/Berlin:20250226T220000
DTSTAMP:20260422T132604
CREATED:20231221T193805Z
LAST-MODIFIED:20250203T130718Z
UID:5659-1740596400-1740607200@bsv-bottrop-eigen.de
SUMMARY:Trainingsschießen
DESCRIPTION:Trainigsschießen
URL:https://bsv-bottrop-eigen.de/event/trainingsschiessen-7/
LOCATION:Cottage Pub\, Herzogstr. 58\, Bottrop\, NRW\, 46240\, Deutschland
CATEGORIES:Trainingsschießen
ATTACH;FMTTYPE=image/png:https://bsv-bottrop-eigen.de/wp-content/uploads/2021/10/2025-02-03_13h26_45.png
ORGANIZER;CN="BSV Bottrop-Eigen 1920 e.V.":MAILTO:info@bsv-Bottrop-Eigen.de
END:VEVENT
END:VCALENDAR