BEGIN:VCALENDAR
VERSION:2.0
PRODID:-//Bürgerschützenverein Bottrop Eigen - ECPv6.15.20//NONSGML v1.0//EN
CALSCALE:GREGORIAN
METHOD:PUBLISH
X-WR-CALNAME:Bürgerschützenverein Bottrop Eigen
X-ORIGINAL-URL:https://bsv-bottrop-eigen.de
X-WR-CALDESC:Veranstaltungen für Bürgerschützenverein Bottrop Eigen
REFRESH-INTERVAL;VALUE=DURATION:PT1H
X-Robots-Tag:noindex
X-PUBLISHED-TTL:PT1H
BEGIN:VTIMEZONE
TZID:Europe/Berlin
BEGIN:DAYLIGHT
TZOFFSETFROM:+0100
TZOFFSETTO:+0200
TZNAME:CEST
DTSTART:20240331T010000
END:DAYLIGHT
BEGIN:STANDARD
TZOFFSETFROM:+0200
TZOFFSETTO:+0100
TZNAME:CET
DTSTART:20241027T010000
END:STANDARD
BEGIN:DAYLIGHT
TZOFFSETFROM:+0100
TZOFFSETTO:+0200
TZNAME:CEST
DTSTART:20250330T010000
END:DAYLIGHT
BEGIN:STANDARD
TZOFFSETFROM:+0200
TZOFFSETTO:+0100
TZNAME:CET
DTSTART:20251026T010000
END:STANDARD
BEGIN:DAYLIGHT
TZOFFSETFROM:+0100
TZOFFSETTO:+0200
TZNAME:CEST
DTSTART:20260329T010000
END:DAYLIGHT
BEGIN:STANDARD
TZOFFSETFROM:+0200
TZOFFSETTO:+0100
TZNAME:CET
DTSTART:20261025T010000
END:STANDARD
END:VTIMEZONE
BEGIN:VEVENT
DTSTART;TZID=Europe/Berlin:20250501T130000
DTEND;TZID=Europe/Berlin:20250501T200000
DTSTAMP:20260420T183621
CREATED:20221230T154958Z
LAST-MODIFIED:20241227T122133Z
UID:4708-1746104400-1746129600@bsv-bottrop-eigen.de
SUMMARY:Grafenwald Maibaum aufstellen
DESCRIPTION:Auf nach Grafenwald zum Maibaum aufstellen
URL:https://bsv-bottrop-eigen.de/event/maibaum/
LOCATION:Cottage Pub\, Herzogstr. 58\, Bottrop\, NRW\, 46240\, Deutschland
ORGANIZER;CN="BSV Bottrop-Eigen 1920 e.V.":MAILTO:info@bsv-Bottrop-Eigen.de
END:VEVENT
BEGIN:VEVENT
DTSTART;TZID=Europe/Berlin:20250502T190000
DTEND;TZID=Europe/Berlin:20250502T230000
DTSTAMP:20260420T183621
CREATED:20221230T153153Z
LAST-MODIFIED:20250331T152100Z
UID:4688-1746212400-1746226800@bsv-bottrop-eigen.de
SUMMARY:Stammtisch Mai
DESCRIPTION:Stammtisch Mai
URL:https://bsv-bottrop-eigen.de/event/stammtisch-mai/
LOCATION:Clubhaus TC Stadtwald\, Stenkhoffstraße 32\, Bottrop\, NRW\, 46240\, Germany
CATEGORIES:Stammtisch
ATTACH;FMTTYPE=image/png:https://bsv-bottrop-eigen.de/wp-content/uploads/2019/12/Stammtisch.png
ORGANIZER;CN="BSV Bottrop-Eigen 1920 e.V.":MAILTO:info@bsv-Bottrop-Eigen.de
END:VEVENT
BEGIN:VEVENT
DTSTART;TZID=Europe/Berlin:20250507T190000
DTEND;TZID=Europe/Berlin:20250507T220000
DTSTAMP:20260420T183621
CREATED:20231222T090516Z
LAST-MODIFIED:20250203T125301Z
UID:5679-1746644400-1746655200@bsv-bottrop-eigen.de
SUMMARY:Trainingsschießen
DESCRIPTION:Trainigsschießen
URL:https://bsv-bottrop-eigen.de/event/trainingsschiessen-16/
LOCATION:Cottage Pub\, Herzogstr. 58\, Bottrop\, NRW\, 46240\, Deutschland
CATEGORIES:Trainingsschießen
ATTACH;FMTTYPE=image/png:https://bsv-bottrop-eigen.de/wp-content/uploads/2021/10/2025-02-03_13h26_45.png
ORGANIZER;CN="BSV Bottrop-Eigen 1920 e.V.":MAILTO:info@bsv-Bottrop-Eigen.de
END:VEVENT
BEGIN:VEVENT
DTSTART;TZID=Europe/Berlin:20250514T190000
DTEND;TZID=Europe/Berlin:20250514T220000
DTSTAMP:20260420T183621
CREATED:20231222T091019Z
LAST-MODIFIED:20250203T125216Z
UID:5683-1747249200-1747260000@bsv-bottrop-eigen.de
SUMMARY:Trainingsschießen
DESCRIPTION:Trainigsschießen
URL:https://bsv-bottrop-eigen.de/event/trainingsschiessen-17/
LOCATION:Cottage Pub\, Herzogstr. 58\, Bottrop\, NRW\, 46240\, Deutschland
CATEGORIES:Trainingsschießen
ATTACH;FMTTYPE=image/png:https://bsv-bottrop-eigen.de/wp-content/uploads/2021/10/2025-02-03_13h26_45.png
ORGANIZER;CN="BSV Bottrop-Eigen 1920 e.V.":MAILTO:info@bsv-Bottrop-Eigen.de
END:VEVENT
BEGIN:VEVENT
DTSTART;TZID=Europe/Berlin:20250521T190000
DTEND;TZID=Europe/Berlin:20250521T220000
DTSTAMP:20260420T183621
CREATED:20231222T091117Z
LAST-MODIFIED:20250203T125135Z
UID:5685-1747854000-1747864800@bsv-bottrop-eigen.de
SUMMARY:Trainingsschießen und Damenübungsschießen
DESCRIPTION:Trainungsschießen und Damenübungsschießen
URL:https://bsv-bottrop-eigen.de/event/trainingsschiessen-und-damenuebungsschiessen-18/
LOCATION:Cottage Pub\, Herzogstr. 58\, Bottrop\, NRW\, 46240\, Deutschland
CATEGORIES:Trainingsschießen
ATTACH;FMTTYPE=image/png:https://bsv-bottrop-eigen.de/wp-content/uploads/2021/10/2025-02-03_13h26_45.png
ORGANIZER;CN="BSV Bottrop-Eigen 1920 e.V.":MAILTO:info@bsv-Bottrop-Eigen.de
END:VEVENT
BEGIN:VEVENT
DTSTART;TZID=Europe/Berlin:20250524T150000
DTEND;TZID=Europe/Berlin:20250524T235900
DTSTAMP:20260420T183621
CREATED:20231228T131650Z
LAST-MODIFIED:20250203T110849Z
UID:5761-1748098800-1748131140@bsv-bottrop-eigen.de
SUMMARY:Biwak BSV Bottrop-Eigen
DESCRIPTION:Biwak
URL:https://bsv-bottrop-eigen.de/event/kk-vorde/
LOCATION:Cottage Pub\, Herzogstr. 58\, Bottrop\, NRW\, 46240\, Deutschland
CATEGORIES:Biwak
ATTACH;FMTTYPE=image/png:https://bsv-bottrop-eigen.de/wp-content/uploads/2023/12/2025-02-03_11h40_22.png
ORGANIZER;CN="BSV Bottrop-Eigen 1920 e.V.":MAILTO:info@bsv-Bottrop-Eigen.de
END:VEVENT
BEGIN:VEVENT
DTSTART;TZID=Europe/Berlin:20250528T190000
DTEND;TZID=Europe/Berlin:20250528T220000
DTSTAMP:20260420T183621
CREATED:20231222T091207Z
LAST-MODIFIED:20250203T124958Z
UID:5687-1748458800-1748469600@bsv-bottrop-eigen.de
SUMMARY:Trainingsschießen
DESCRIPTION:Trainigsschießen
URL:https://bsv-bottrop-eigen.de/event/trainingsschiessen-19/
LOCATION:Cottage Pub\, Herzogstr. 58\, Bottrop\, NRW\, 46240\, Deutschland
CATEGORIES:Trainingsschießen
ATTACH;FMTTYPE=image/png:https://bsv-bottrop-eigen.de/wp-content/uploads/2021/10/2025-02-03_13h26_45.png
ORGANIZER;CN="BSV Bottrop-Eigen 1920 e.V.":MAILTO:info@bsv-Bottrop-Eigen.de
END:VEVENT
END:VCALENDAR